BEGIN:VCALENDAR
VERSION:2.0
METHOD:PUBLISH
PRODID:-//eightway/atendo2//NONSGML v1.0//EN
BEGIN:VEVENT
DTSTAMP:20260420T90206Z
DTSTART:20220605T80000Z
DTEND:20220606T10000Z
LOCATION:Harkortstraße 3, 42551 Velbert, Germany (Prime Men‘s Spa)
UID:190-231
SUMMARY:PRIME Party
DESCRIPTION:https://www.freiercafe.net/kalender/prime-party.190/event?id=231
URL:https://www.freiercafe.net/kalender/prime-party.190/event?id=231
END:VEVENT
END:VCALENDAR