BEGIN:VCALENDAR
VERSION:2.0
METHOD:PUBLISH
PRODID:-//eightway/atendo2//NONSGML v1.0//EN
BEGIN:VEVENT
DTSTAMP:20260420T90202Z
DTSTART:20220525T80000Z
DTEND:20220526T30000Z
LOCATION:Riemker Str. 110, 44625 Herne, Germany (FKK Salome)
UID:188-229
SUMMARY:Party (25.Mai) und Vatertag (26.Mai) im Salome
DESCRIPTION:https://www.freiercafe.net/kalender/party-25-mai-und-vatertag-26-mai-im-salome.188/event?id=229
URL:https://www.freiercafe.net/kalender/party-25-mai-und-vatertag-26-mai-im-salome.188/event?id=229
END:VEVENT
END:VCALENDAR