BEGIN:VCALENDAR
VERSION:2.0
METHOD:PUBLISH
PRODID:-//eightway/atendo2//NONSGML v1.0//EN
BEGIN:VEVENT
DTSTAMP:20260422T41052Z
DTSTART:20220526T80000Z
DTEND:20220527T10000Z
LOCATION:Harkortstraße 3, 42551 Velbert, Germany (Fkk Prime)
UID:187-228
SUMMARY:Party (25.) und Vatertag (26.) im Prime
DESCRIPTION:https://www.freiercafe.net/kalender/party-25-und-vatertag-26-im-prime.187/event?id=228
URL:https://www.freiercafe.net/kalender/party-25-und-vatertag-26-im-prime.187/event?id=228
END:VEVENT
END:VCALENDAR