BEGIN:VCALENDAR
VERSION:2.0
METHOD:PUBLISH
PRODID:-//eightway/atendo2//NONSGML v1.0//EN
BEGIN:VEVENT
DTSTAMP:20260420T90147Z
DTSTART:20220525T80000Z
DTEND:20220526T10000Z
LOCATION:Harkortstraße 3, 42551 Velbert, Germany (Fkk Prime)
UID:187-227
SUMMARY:Party (25.) und Vatertag (26.) im Prime
DESCRIPTION:https://www.freiercafe.net/kalender/party-25-und-vatertag-26-im-prime.187/event?id=227
URL:https://www.freiercafe.net/kalender/party-25-und-vatertag-26-im-prime.187/event?id=227
END:VEVENT
END:VCALENDAR