BEGIN:VCALENDAR
VERSION:2.0
METHOD:PUBLISH
PRODID:-//eightway/atendo2//NONSGML v1.0//EN
BEGIN:VEVENT
DTSTAMP:20260420T90218Z
DTSTART:20220526T80000Z
DTEND:20220527T10000Z
LOCATION:Kirschbaumweg 26A, 50996 Köln, Germany (Saunaclub Samya)
UID:185-225
SUMMARY:Vatertagsparty Samya
DESCRIPTION:https://www.freiercafe.net/kalender/vatertagsparty-samya.185/event?id=225
URL:https://www.freiercafe.net/kalender/vatertagsparty-samya.185/event?id=225
END:VEVENT
END:VCALENDAR