BEGIN:VCALENDAR
VERSION:2.0
METHOD:PUBLISH
PRODID:-//eightway/atendo2//NONSGML v1.0//EN
BEGIN:VEVENT
DTSTAMP:20260420T123605Z
DTSTART:20220526T90000Z
DTEND:20220527T10000Z
LOCATION:Hugo-Junkers-Straße 10, 50739 Köln, Germany (Club Mondial)
UID:184-224
SUMMARY:Vatertag im Mondial
DESCRIPTION:https://www.freiercafe.net/kalender/vatertag-im-mondial.184/event?id=224
URL:https://www.freiercafe.net/kalender/vatertag-im-mondial.184/event?id=224
END:VEVENT
END:VCALENDAR