BEGIN:VCALENDAR
VERSION:2.0
METHOD:PUBLISH
PRODID:-//eightway/atendo2//NONSGML v1.0//EN
BEGIN:VEVENT
DTSTAMP:20260420T91517Z
DTSTART:20220519T90000Z
DTEND:20220520T10000Z
LOCATION:Hugo-Junkers-Straße 10, 50739 Köln, Germany (Club Mondial)
UID:183-223
SUMMARY:12 Jahre Mondial
DESCRIPTION:https://www.freiercafe.net/kalender/12-jahre-mondial.183/event?id=223
URL:https://www.freiercafe.net/kalender/12-jahre-mondial.183/event?id=223
END:VEVENT
END:VCALENDAR