BEGIN:VCALENDAR
VERSION:2.0
METHOD:PUBLISH
PRODID:-//eightway/atendo2//NONSGML v1.0//EN
BEGIN:VEVENT
DTSTAMP:20260420T90230Z
DTSTART:20220514T80000Z
DTEND:20220515T10000Z
LOCATION:Robert-Zapp-Straße 2A, 40880 Ratingen, Germany (Fkk Acapulco Gold)
UID:182-222
SUMMARY:7 Jähriges Jubiläum Acapulco Gold
DESCRIPTION:https://www.freiercafe.net/kalender/7-jaehriges-jubilaeum-acapulco-gold.182/event?id=222
URL:https://www.freiercafe.net/kalender/7-jaehriges-jubilaeum-acapulco-gold.182/event?id=222
END:VEVENT
END:VCALENDAR