BEGIN:VCALENDAR
VERSION:2.0
METHOD:PUBLISH
PRODID:-//eightway/atendo2//NONSGML v1.0//EN
BEGIN:VEVENT
DTSTAMP:20260420T23025Z
DTSTART:20220514T80000Z
DTEND:20220515T30000Z
LOCATION:Riemker Str. 110, 44625 Herne, Germany (FKK Salome)
UID:181-221
SUMMARY:Salome Party
DESCRIPTION:https://www.freiercafe.net/kalender/salome-party.181/event?id=221
URL:https://www.freiercafe.net/kalender/salome-party.181/event?id=221
END:VEVENT
END:VCALENDAR