BEGIN:VCALENDAR
VERSION:2.0
METHOD:PUBLISH
PRODID:-//eightway/atendo2//NONSGML v1.0//EN
BEGIN:VEVENT
DTSTAMP:20260420T90226Z
DTSTART:20220507T90000Z
DTEND:20220508T20000Z
LOCATION:Am Rohrbusch 49, 48161 Münster, Germany (Saunaclub Antalya)
UID:179-219
SUMMARY:Bayram Party
DESCRIPTION:https://www.freiercafe.net/kalender/bayram-party.179/event?id=219
URL:https://www.freiercafe.net/kalender/bayram-party.179/event?id=219
END:VEVENT
END:VCALENDAR