BEGIN:VCALENDAR
VERSION:2.0
METHOD:PUBLISH
PRODID:-//eightway/atendo2//NONSGML v1.0//EN
BEGIN:VEVENT
DTSTAMP:20260420T90156Z
DTSTART:20220504T90000Z
DTEND:20220505T10000Z
LOCATION:Hugo-Junkers-Straße 10, 50739 Köln, Germany (Club Mondial)
UID:178-218
SUMMARY:BAYRAM - Party
DESCRIPTION:https://www.freiercafe.net/kalender/bayram-party.178/event?id=218
URL:https://www.freiercafe.net/kalender/bayram-party.178/event?id=218
END:VEVENT
END:VCALENDAR