BEGIN:VCALENDAR
VERSION:2.0
METHOD:PUBLISH
PRODID:-//eightway/atendo2//NONSGML v1.0//EN
BEGIN:VEVENT
DTSTAMP:20260420T90151Z
DTSTART:20211105T100000Z
DTEND:20211106T105900Z
LOCATION:Deutscher Ring 42, 42327 Wuppertal, Germany (Wuppertal)
UID:176-216
SUMMARY:9 Jahre Sky Saunaclub
DESCRIPTION:https://www.freiercafe.net/kalender/9-jahre-sky-saunaclub.176/event?id=216
URL:https://www.freiercafe.net/kalender/9-jahre-sky-saunaclub.176/event?id=216
END:VEVENT
END:VCALENDAR