BEGIN:VCALENDAR
VERSION:2.0
METHOD:PUBLISH
PRODID:-//eightway/atendo2//NONSGML v1.0//EN
BEGIN:VEVENT
DTSTAMP:20260420T90312Z
DTSTART:20210819T100000Z
DTEND:20210915T100000Z
LOCATION:FKK Prime, Harkortstr. 3, 42551 Velbert
UID:174-214
SUMMARY:2G im FKK Prime - neue Eintrittspreise
DESCRIPTION:https://www.freiercafe.net/kalender/2g-im-fkk-prime-neue-eintrittspreise.174/event?id=214
URL:https://www.freiercafe.net/kalender/2g-im-fkk-prime-neue-eintrittspreise.174/event?id=214
END:VEVENT
END:VCALENDAR