BEGIN:VCALENDAR
VERSION:2.0
METHOD:PUBLISH
PRODID:-//eightway/atendo2//NONSGML v1.0//EN
BEGIN:VEVENT
DTSTAMP:20260420T25511Z
DTSTART:20210819T100000Z
DTEND:20210915T100000Z
LOCATION:Saunaclub Antalya - Am Rohrbusch 49 - 48161 Münster
UID:173-213
SUMMARY:Mottotage im Saunaclub Antalya Münster
DESCRIPTION:https://www.freiercafe.net/kalender/mottotage-im-saunaclub-antalya-muenster.173/event?id=213
URL:https://www.freiercafe.net/kalender/mottotage-im-saunaclub-antalya-muenster.173/event?id=213
END:VEVENT
END:VCALENDAR