BEGIN:VCALENDAR
VERSION:2.0
METHOD:PUBLISH
PRODID:-//eightway/atendo2//NONSGML v1.0//EN
BEGIN:VEVENT
DTSTAMP:20260423T45127Z
DTSTART:20210725T95900Z
DTEND:20210831T90000Z
LOCATION:Sky Saunaclub Wuppertal
UID:163-212
SUMMARY:Sky Saunaclub Wiedereröffnung
DESCRIPTION:https://www.freiercafe.net/kalender/sky-saunaclub-wiedereroeffnung.163/event?id=212
URL:https://www.freiercafe.net/kalender/sky-saunaclub-wiedereroeffnung.163/event?id=212
END:VEVENT
END:VCALENDAR