BEGIN:VCALENDAR
VERSION:2.0
METHOD:PUBLISH
PRODID:-//eightway/atendo2//NONSGML v1.0//EN
BEGIN:VEVENT
DTSTAMP:20260423T45128Z
DTSTART:20210718T90000Z
DTEND:20210831T40000Z
LOCATION:Saunaclub Venus - Güterstr. 27 - 46499 Hamminkeln
UID:171-211
SUMMARY:Saunaclub Venus wieder da
DESCRIPTION:https://www.freiercafe.net/kalender/saunaclub-venus-wieder-da.171/event?id=211
URL:https://www.freiercafe.net/kalender/saunaclub-venus-wieder-da.171/event?id=211
END:VEVENT
END:VCALENDAR