BEGIN:VCALENDAR
VERSION:2.0
METHOD:PUBLISH
PRODID:-//eightway/atendo2//NONSGML v1.0//EN
BEGIN:VEVENT
DTSTAMP:20260420T90207Z
DTSTART:20210803T90000Z
DTEND:20210819T100000Z
LOCATION:Heinrich-Hertz-Str. 24, Erkrath
UID:172-210
SUMMARY:Magnum Eröffnung am 3.8.
DESCRIPTION:https://www.freiercafe.net/kalender/magnum-eroeffnung-am-3-8.172/event?id=210
URL:https://www.freiercafe.net/kalender/magnum-eroeffnung-am-3-8.172/event?id=210
END:VEVENT
END:VCALENDAR