BEGIN:VCALENDAR
VERSION:2.0
METHOD:PUBLISH
PRODID:-//eightway/atendo2//NONSGML v1.0//EN
BEGIN:VEVENT
DTSTAMP:20260423T62648Z
DTSTART:20210718T95900Z
DTEND:20210731T90000Z
LOCATION:Sky Saunaclub Wuppertal
UID:163-209
SUMMARY:Sky Saunaclub Wiedereröffnung
DESCRIPTION:https://www.freiercafe.net/kalender/sky-saunaclub-wiedereroeffnung.163/event?id=209
URL:https://www.freiercafe.net/kalender/sky-saunaclub-wiedereroeffnung.163/event?id=209
END:VEVENT
END:VCALENDAR