BEGIN:VCALENDAR
VERSION:2.0
METHOD:PUBLISH
PRODID:-//eightway/atendo2//NONSGML v1.0//EN
BEGIN:VEVENT
DTSTAMP:20260420T90147Z
DTSTART:20210712T90000Z
DTEND:20210731T40000Z
LOCATION:Saunaclub Venus - Güterstr. 27 - 46499 Hamminkeln
UID:171-208
SUMMARY:Saunaclub Venus wieder da
DESCRIPTION:https://www.freiercafe.net/kalender/saunaclub-venus-wieder-da.171/event?id=208
URL:https://www.freiercafe.net/kalender/saunaclub-venus-wieder-da.171/event?id=208
END:VEVENT
END:VCALENDAR