BEGIN:VCALENDAR
VERSION:2.0
METHOD:PUBLISH
PRODID:-//eightway/atendo2//NONSGML v1.0//EN
BEGIN:VEVENT
DTSTAMP:20260420T74132Z
DTSTART:20210625T95900Z
DTEND:20210629T100000Z
LOCATION:Saunaclub Diamond, eurotecring 51, 47445 Moers
UID:170-207
SUMMARY:Saunaclub Diamond wieder geöffnet!
DESCRIPTION:https://www.freiercafe.net/kalender/saunaclub-diamond-wieder-geoeffnet.170/event?id=207
URL:https://www.freiercafe.net/kalender/saunaclub-diamond-wieder-geoeffnet.170/event?id=207
END:VEVENT
END:VCALENDAR