BEGIN:VCALENDAR
VERSION:2.0
METHOD:PUBLISH
PRODID:-//eightway/atendo2//NONSGML v1.0//EN
BEGIN:VEVENT
DTSTAMP:20260420T74155Z
DTSTART:20210618T95900Z
DTEND:20210630T90000Z
LOCATION:Club Laluna, Kauzstr.9, Moers
UID:169-206
SUMMARY:Laluna Wiedereröffnung
DESCRIPTION:https://www.freiercafe.net/kalender/laluna-wiedereroeffnung.169/event?id=206
URL:https://www.freiercafe.net/kalender/laluna-wiedereroeffnung.169/event?id=206
END:VEVENT
END:VCALENDAR