BEGIN:VCALENDAR
VERSION:2.0
METHOD:PUBLISH
PRODID:-//eightway/atendo2//NONSGML v1.0//EN
BEGIN:VEVENT
DTSTAMP:20260420T90122Z
DTSTART:20210616T95900Z
DTEND:20210630T95900Z
LOCATION:HAPPY GARDEN - Butzenstraße 41, 47918 Tönisvorst
UID:168-205
SUMMARY:Happy Garden wieder da
DESCRIPTION:https://www.freiercafe.net/kalender/happy-garden-wieder-da.168/event?id=205
URL:https://www.freiercafe.net/kalender/happy-garden-wieder-da.168/event?id=205
END:VEVENT
END:VCALENDAR