BEGIN:VCALENDAR
VERSION:2.0
METHOD:PUBLISH
PRODID:-//eightway/atendo2//NONSGML v1.0//EN
BEGIN:VEVENT
DTSTAMP:20260420T123606Z
DTSTART:20210618T95500Z
DTEND:20210629T100000Z
LOCATION:FKK Prime, Harkortstr. 3, 42551 Velbert
UID:167-204
SUMMARY:FKK-Prime Velbert Neueröffnung
DESCRIPTION:https://www.freiercafe.net/kalender/fkk-prime-velbert-neueroeffnung.167/event?id=204
URL:https://www.freiercafe.net/kalender/fkk-prime-velbert-neueroeffnung.167/event?id=204
END:VEVENT
END:VCALENDAR