BEGIN:VCALENDAR
VERSION:2.0
METHOD:PUBLISH
PRODID:-//eightway/atendo2//NONSGML v1.0//EN
BEGIN:VEVENT
DTSTAMP:20260420T90146Z
DTSTART:20210611T95900Z
DTEND:20210623T100000Z
LOCATION:Saunaclub Samya
UID:166-203
SUMMARY:Samya Reopening
DESCRIPTION:https://www.freiercafe.net/kalender/samya-reopening.166/event?id=203
URL:https://www.freiercafe.net/kalender/samya-reopening.166/event?id=203
END:VEVENT
END:VCALENDAR