BEGIN:VCALENDAR
VERSION:2.0
METHOD:PUBLISH
PRODID:-//eightway/atendo2//NONSGML v1.0//EN
BEGIN:VEVENT
DTSTAMP:20260420T74158Z
DTSTART:20210611T95000Z
DTEND:20210623T100000Z
LOCATION:FKK Rheingold, Siemensring 7, 47877 Willich,
UID:165-202
SUMMARY:Rheingold Reopening mit Big BBQ
DESCRIPTION:https://www.freiercafe.net/kalender/rheingold-reopening-mit-big-bbq.165/event?id=202
URL:https://www.freiercafe.net/kalender/rheingold-reopening-mit-big-bbq.165/event?id=202
END:VEVENT
END:VCALENDAR