BEGIN:VCALENDAR
VERSION:2.0
METHOD:PUBLISH
PRODID:-//eightway/atendo2//NONSGML v1.0//EN
BEGIN:VEVENT
DTSTAMP:20260423T93240Z
DTSTART:20210610T95900Z
DTEND:20210615T100000Z
LOCATION:Saunaclub Diamond
UID:162-201
SUMMARY:Saunaclub Diamond Wiedereröffnung
DESCRIPTION:https://www.freiercafe.net/kalender/saunaclub-diamond-wiedereroeffnung.162/event?id=201
URL:https://www.freiercafe.net/kalender/saunaclub-diamond-wiedereroeffnung.162/event?id=201
END:VEVENT
END:VCALENDAR