BEGIN:VCALENDAR
VERSION:2.0
METHOD:PUBLISH
PRODID:-//eightway/atendo2//NONSGML v1.0//EN
BEGIN:VEVENT
DTSTAMP:20260420T90155Z
DTSTART:20210610T95900Z
DTEND:20210614T100000Z
LOCATION:FKK Salome Herne
UID:164-200
SUMMARY:Salome Wiedereröffnung
DESCRIPTION:https://www.freiercafe.net/kalender/salome-wiedereroeffnung.164/event?id=200
URL:https://www.freiercafe.net/kalender/salome-wiedereroeffnung.164/event?id=200
END:VEVENT
END:VCALENDAR