BEGIN:VCALENDAR
VERSION:2.0
METHOD:PUBLISH
PRODID:-//eightway/atendo2//NONSGML v1.0//EN
BEGIN:VEVENT
DTSTAMP:20260420T90126Z
DTSTART:20210606T95900Z
DTEND:20210607T100000Z
LOCATION:Saunaclub Antalya - Am Rohrbusch 49 - 48161 Münster
UID:161-199
SUMMARY:Saunaclub Antalaya Münster Wiedereröffnung 30.5.2021
DESCRIPTION:https://www.freiercafe.net/kalender/saunaclub-antalaya-muenster-wiedereroeffnung-30-5-2021.161/event?id=199
URL:https://www.freiercafe.net/kalender/saunaclub-antalaya-muenster-wiedereroeffnung-30-5-2021.161/event?id=199
END:VEVENT
END:VCALENDAR