BEGIN:VCALENDAR
VERSION:2.0
METHOD:PUBLISH
PRODID:-//eightway/atendo2//NONSGML v1.0//EN
BEGIN:VEVENT
DTSTAMP:20260420T92608Z
DTSTART:20210701T95900Z
DTEND:20210703T90000Z
LOCATION:Sky Saunaclub Wuppertal
UID:163-197
SUMMARY:Sky Saunaclub Wiedereröffnung
DESCRIPTION:https://www.freiercafe.net/kalender/sky-saunaclub-wiedereroeffnung.163/event?id=197
URL:https://www.freiercafe.net/kalender/sky-saunaclub-wiedereroeffnung.163/event?id=197
END:VEVENT
END:VCALENDAR