BEGIN:VCALENDAR
VERSION:2.0
METHOD:PUBLISH
PRODID:-//eightway/atendo2//NONSGML v1.0//EN
BEGIN:VEVENT
DTSTAMP:20260420T90206Z
DTSTART:20210603T95900Z
DTEND:20210603T100000Z
LOCATION:Saunaclub Diamond
UID:162-196
SUMMARY:Saunaclub Diamond Wiedereröffnung
DESCRIPTION:https://www.freiercafe.net/kalender/saunaclub-diamond-wiedereroeffnung.162/event?id=196
URL:https://www.freiercafe.net/kalender/saunaclub-diamond-wiedereroeffnung.162/event?id=196
END:VEVENT
END:VCALENDAR