BEGIN:VCALENDAR
VERSION:2.0
METHOD:PUBLISH
PRODID:-//eightway/atendo2//NONSGML v1.0//EN
BEGIN:VEVENT
DTSTAMP:20260423T94428Z
DTSTART:20210530T95900Z
DTEND:20210531T100000Z
LOCATION:Saunaclub Antalya - Am Rohrbusch 49 - 48161 Münster
UID:161-195
SUMMARY:Saunaclub Antalaya Münster Wiedereröffnung 30.5.2021
DESCRIPTION:https://www.freiercafe.net/kalender/saunaclub-antalaya-muenster-wiedereroeffnung-30-5-2021.161/event?id=195
URL:https://www.freiercafe.net/kalender/saunaclub-antalaya-muenster-wiedereroeffnung-30-5-2021.161/event?id=195
END:VEVENT
END:VCALENDAR