BEGIN:VCALENDAR
VERSION:2.0
METHOD:PUBLISH
PRODID:-//eightway/atendo2//NONSGML v1.0//EN
BEGIN:VEVENT
DTSTAMP:20260420T90304Z
DTSTART:20210604T90000Z
DTEND:20210605T40000Z
LOCATION:Saunaclub Venus - Güterstr. 27 - 46499 Hamminkeln
UID:160-194
SUMMARY:Saunaclub Venus Hamminkeln Wiedereröffnung 4.6.
DESCRIPTION:https://www.freiercafe.net/kalender/saunaclub-venus-hamminkeln-wiedereroeffnung-4-6.160/event?id=194
URL:https://www.freiercafe.net/kalender/saunaclub-venus-hamminkeln-wiedereroeffnung-4-6.160/event?id=194
END:VEVENT
END:VCALENDAR