BEGIN:VCALENDAR
VERSION:2.0
METHOD:PUBLISH
PRODID:-//eightway/atendo2//NONSGML v1.0//EN
BEGIN:VEVENT
DTSTAMP:20260420T123720Z
DTSTART:20210301T105800Z
DTEND:20210301T105900Z
LOCATION:Club Mabuhay
UID:159-193
SUMMARY:Club Mabuhay eröffnet am 1. März
DESCRIPTION:https://www.freiercafe.net/kalender/club-mabuhay-eroeffnet-am-1-maerz.159/event?id=193
URL:https://www.freiercafe.net/kalender/club-mabuhay-eroeffnet-am-1-maerz.159/event?id=193
END:VEVENT
END:VCALENDAR