BEGIN:VCALENDAR
VERSION:2.0
METHOD:PUBLISH
PRODID:-//eightway/atendo2//NONSGML v1.0//EN
BEGIN:VEVENT
DTSTAMP:20260420T90123Z
DTSTART:20200923T90000Z
DTEND:20200930T90000Z
LOCATION:Siemensring 7, 47877 Willich, Germany (FKK Rheingold)
UID:158-192
SUMMARY:FKK-Rheingold in Willich eröffnet am 23.09.
DESCRIPTION:https://www.freiercafe.net/kalender/fkk-rheingold-in-willich-eroeffnet-am-23-09.158/event?id=192
URL:https://www.freiercafe.net/kalender/fkk-rheingold-in-willich-eroeffnet-am-23-09.158/event?id=192
END:VEVENT
END:VCALENDAR