BEGIN:VCALENDAR
VERSION:2.0
METHOD:PUBLISH
PRODID:-//eightway/atendo2//NONSGML v1.0//EN
BEGIN:VEVENT
DTSTAMP:20260423T103733Z
DTSTART:20200919T90000Z
DTEND:20200930T95900Z
LOCATION:Harkortstraße 3, 42551 Velbert, Germany (FKK Acapulco)
UID:146-191
SUMMARY:Acapulco Wiedereröffnung am 18.09.2020
DESCRIPTION:https://www.freiercafe.net/kalender/acapulco-wiedereroeffnung-am-18-09-2020.146/event?id=191
URL:https://www.freiercafe.net/kalender/acapulco-wiedereroeffnung-am-18-09-2020.146/event?id=191
END:VEVENT
END:VCALENDAR