BEGIN:VCALENDAR
VERSION:2.0
METHOD:PUBLISH
PRODID:-//eightway/atendo2//NONSGML v1.0//EN
BEGIN:VEVENT
DTSTAMP:20260420T90227Z
DTSTART:20200922T90000Z
DTEND:20200930T95900Z
LOCATION:Riemker Str. 110, 44625 Herne, Germany (FKK Salome)
UID:147-190
SUMMARY:Salome Wiedereröffnung Freitag, 18.09.2020
DESCRIPTION:https://www.freiercafe.net/kalender/salome-wiedereroeffnung-freitag-18-09-2020.147/event?id=190
URL:https://www.freiercafe.net/kalender/salome-wiedereroeffnung-freitag-18-09-2020.147/event?id=190
END:VEVENT
END:VCALENDAR