BEGIN:VCALENDAR
VERSION:2.0
METHOD:PUBLISH
PRODID:-//eightway/atendo2//NONSGML v1.0//EN
BEGIN:VEVENT
DTSTAMP:20260420T90226Z
DTSTART:20200920T95000Z
DTEND:20200930T95900Z
LOCATION:Hugo-Junkers-Straße 10, 50739 Köln, Germany (Club Mondial)
UID:150-188
SUMMARY:Mondial Köln eröffnet am 11.09.
DESCRIPTION:https://www.freiercafe.net/kalender/mondial-koeln-eroeffnet-am-11-09.150/event?id=188
URL:https://www.freiercafe.net/kalender/mondial-koeln-eroeffnet-am-11-09.150/event?id=188
END:VEVENT
END:VCALENDAR