BEGIN:VCALENDAR
VERSION:2.0
METHOD:PUBLISH
PRODID:-//eightway/atendo2//NONSGML v1.0//EN
BEGIN:VEVENT
DTSTAMP:20260423T104941Z
DTSTART:20200920T90000Z
DTEND:20200930T90000Z
LOCATION:Güterstraße 27, 46499 Hamminkeln, Germany (Saunaclub Venus)
UID:155-186
SUMMARY:Jetzt aber - Saunaclub Venus ab Di 15.9. geöffnet
DESCRIPTION:https://www.freiercafe.net/kalender/jetzt-aber-saunaclub-venus-ab-di-15-9-geoeffnet.155/event?id=186
URL:https://www.freiercafe.net/kalender/jetzt-aber-saunaclub-venus-ab-di-15-9-geoeffnet.155/event?id=186
END:VEVENT
END:VCALENDAR