BEGIN:VCALENDAR
VERSION:2.0
METHOD:PUBLISH
PRODID:-//eightway/atendo2//NONSGML v1.0//EN
BEGIN:VEVENT
DTSTAMP:20260423T103732Z
DTSTART:20200921T90000Z
DTEND:20200930T95900Z
LOCATION:Tackenweide 22, 46446 Emmerich am Rhein, Germany (Saunaclub22)
UID:148-184
SUMMARY:Neueröffnung Saunaclub 22 in Emmerich
DESCRIPTION:https://www.freiercafe.net/kalender/neueroeffnung-saunaclub-22-in-emmerich.148/event?id=184
URL:https://www.freiercafe.net/kalender/neueroeffnung-saunaclub-22-in-emmerich.148/event?id=184
END:VEVENT
END:VCALENDAR