BEGIN:VCALENDAR
VERSION:2.0
METHOD:PUBLISH
PRODID:-//eightway/atendo2//NONSGML v1.0//EN
BEGIN:VEVENT
DTSTAMP:20260420T90206Z
DTSTART:20200921T80000Z
DTEND:20200927T90000Z
LOCATION:Eurotec-Ring 51, 47445 Moers, Germany (Saunaclub Diamond)
UID:156-183
SUMMARY:Saunaclub Diamond Moers endlich geöffnet!
DESCRIPTION:https://www.freiercafe.net/kalender/saunaclub-diamond-moers-endlich-geoeffnet.156/event?id=183
URL:https://www.freiercafe.net/kalender/saunaclub-diamond-moers-endlich-geoeffnet.156/event?id=183
END:VEVENT
END:VCALENDAR