BEGIN:VCALENDAR
VERSION:2.0
METHOD:PUBLISH
PRODID:-//eightway/atendo2//NONSGML v1.0//EN
BEGIN:VEVENT
DTSTAMP:20260423T105035Z
DTSTART:20200922T90000Z
DTEND:20200928T90000Z
LOCATION:Butzenstraße 41, 47918 Tönisvorst, Germany (Happy Garden)
UID:157-182
SUMMARY:Happy Garden hat geöffnet!
DESCRIPTION:https://www.freiercafe.net/kalender/happy-garden-hat-geoeffnet.157/event?id=182
URL:https://www.freiercafe.net/kalender/happy-garden-hat-geoeffnet.157/event?id=182
END:VEVENT
END:VCALENDAR