BEGIN:VCALENDAR
VERSION:2.0
METHOD:PUBLISH
PRODID:-//eightway/atendo2//NONSGML v1.0//EN
BEGIN:VEVENT
DTSTAMP:20260420T90335Z
DTSTART:20200917T90000Z
DTEND:20200922T95900Z
LOCATION:Oststraße 12, 50189 Elsdorf, Germany (Saunaclub Babylon)
UID:152-181
SUMMARY:Saunaclub Babylon - Wiedereröffnung 17.09.2020
DESCRIPTION:https://www.freiercafe.net/kalender/saunaclub-babylon-wiedereroeffnung-17-09-2020.152/event?id=181
URL:https://www.freiercafe.net/kalender/saunaclub-babylon-wiedereroeffnung-17-09-2020.152/event?id=181
END:VEVENT
END:VCALENDAR