BEGIN:VCALENDAR
VERSION:2.0
METHOD:PUBLISH
PRODID:-//eightway/atendo2//NONSGML v1.0//EN
BEGIN:VEVENT
DTSTAMP:20260424T121206Z
DTSTART:20200916T80000Z
DTEND:20200920T90000Z
LOCATION:Eurotec-Ring 51, 47445 Moers, Germany (Saunaclub Diamond)
UID:156-179
SUMMARY:Saunaclub Diamond Moers endlich geöffnet!
DESCRIPTION:https://www.freiercafe.net/kalender/saunaclub-diamond-moers-endlich-geoeffnet.156/event?id=179
URL:https://www.freiercafe.net/kalender/saunaclub-diamond-moers-endlich-geoeffnet.156/event?id=179
END:VEVENT
END:VCALENDAR