BEGIN:VCALENDAR
VERSION:2.0
METHOD:PUBLISH
PRODID:-//eightway/atendo2//NONSGML v1.0//EN
BEGIN:VEVENT
DTSTAMP:20260420T90137Z
DTSTART:20200915T90000Z
DTEND:20200917T90000Z
LOCATION:Güterstraße 27, 46499 Hamminkeln, Germany (Saunaclub Venus)
UID:155-178
SUMMARY:Jetzt aber - Saunaclub Venus ab Di 15.9. geöffnet
DESCRIPTION:https://www.freiercafe.net/kalender/jetzt-aber-saunaclub-venus-ab-di-15-9-geoeffnet.155/event?id=178
URL:https://www.freiercafe.net/kalender/jetzt-aber-saunaclub-venus-ab-di-15-9-geoeffnet.155/event?id=178
END:VEVENT
END:VCALENDAR