BEGIN:VCALENDAR
VERSION:2.0
METHOD:PUBLISH
PRODID:-//eightway/atendo2//NONSGML v1.0//EN
BEGIN:VEVENT
DTSTAMP:20260424T120949Z
DTSTART:20200916T90000Z
DTEND:20200917T90000Z
LOCATION:Heinrich-Hertz-Straße 24, 40699 Erkrath, Germany (Saunaclub Magnum Erkrath)
UID:154-177
SUMMARY:Magnum Erkrath - Wieder zurück Unter neuer Leitung ab 16.09.
DESCRIPTION:https://www.freiercafe.net/kalender/magnum-erkrath-wieder-zurueck-unter-neuer-leitung-ab-16-09.154/event?id=177
URL:https://www.freiercafe.net/kalender/magnum-erkrath-wieder-zurueck-unter-neuer-leitung-ab-16-09.154/event?id=177
END:VEVENT
END:VCALENDAR