BEGIN:VCALENDAR
VERSION:2.0
METHOD:PUBLISH
PRODID:-//eightway/atendo2//NONSGML v1.0//EN
BEGIN:VEVENT
DTSTAMP:20260423T115924Z
DTSTART:20200912T90000Z
DTEND:20200912T95900Z
LOCATION:Unterste-Wilms-Straße 9, 44143 Dortmund, Germany (Luderlounge)
UID:153-176
SUMMARY:Luderlounge Wiedereröffnung Samstag 12.09.2020
DESCRIPTION:https://www.freiercafe.net/kalender/luderlounge-wiedereroeffnung-samstag-12-09-2020.153/event?id=176
URL:https://www.freiercafe.net/kalender/luderlounge-wiedereroeffnung-samstag-12-09-2020.153/event?id=176
END:VEVENT
END:VCALENDAR