BEGIN:VCALENDAR
VERSION:2.0
METHOD:PUBLISH
PRODID:-//eightway/atendo2//NONSGML v1.0//EN
BEGIN:VEVENT
DTSTAMP:20260420T90201Z
DTSTART:20200914T95000Z
DTEND:20200914T95900Z
LOCATION:Butzenstraße 41, 47918 Tönisvorst, Germany (Happy Garden)
UID:151-174
SUMMARY:Happy Garden Wiedereröffnung 14.09.2020
DESCRIPTION:https://www.freiercafe.net/kalender/happy-garden-wiedereroeffnung-14-09-2020.151/event?id=174
URL:https://www.freiercafe.net/kalender/happy-garden-wiedereroeffnung-14-09-2020.151/event?id=174
END:VEVENT
END:VCALENDAR