BEGIN:VCALENDAR
VERSION:2.0
METHOD:PUBLISH
PRODID:-//eightway/atendo2//NONSGML v1.0//EN
BEGIN:VEVENT
DTSTAMP:20260420T90234Z
DTSTART:20200918T90000Z
DTEND:20200918T95900Z
LOCATION:Harkortstraße 3, 42551 Velbert, Germany (FKK Acapulco)
UID:146-169
SUMMARY:Acapulco Wiedereröffnung am 18.09.2020
DESCRIPTION:https://www.freiercafe.net/kalender/acapulco-wiedereroeffnung-am-18-09-2020.146/event?id=169
URL:https://www.freiercafe.net/kalender/acapulco-wiedereroeffnung-am-18-09-2020.146/event?id=169
END:VEVENT
END:VCALENDAR