BEGIN:VCALENDAR
VERSION:2.0
METHOD:PUBLISH
PRODID:-//eightway/atendo2//NONSGML v1.0//EN
BEGIN:VEVENT
DTSTAMP:20260420T90232Z
DTSTART:20200314T100000Z
DTEND:20200314T105900Z
LOCATION:Eurotec-Ring 51, 47445 Moers, Germany (Saunaclub Diamond)
UID:142-165
SUMMARY:Horny Spring Party mit Kitty Core im Saunaclub Diamond
DESCRIPTION:https://www.freiercafe.net/kalender/horny-spring-party-mit-kitty-core-im-saunaclub-diamond.142/event?id=165
URL:https://www.freiercafe.net/kalender/horny-spring-party-mit-kitty-core-im-saunaclub-diamond.142/event?id=165
END:VEVENT
END:VCALENDAR