BEGIN:VCALENDAR
VERSION:2.0
METHOD:PUBLISH
PRODID:-//eightway/atendo2//NONSGML v1.0//EN
BEGIN:VEVENT
DTSTAMP:20260420T110146Z
DTSTART:20200220T100000Z
DTEND:20200220T105900Z
LOCATION:Deutscher Ring 40, 42327 Wuppertal, Germany (Sky Saunaclub)
UID:140-163
SUMMARY:Latina Weiber Fastnacht im Sky
DESCRIPTION:https://www.freiercafe.net/kalender/latina-weiber-fastnacht-im-sky.140/event?id=163
URL:https://www.freiercafe.net/kalender/latina-weiber-fastnacht-im-sky.140/event?id=163
END:VEVENT
END:VCALENDAR